BEGIN:VCALENDAR
VERSION:2.0
PRODID:-//THE SPOTLIGHTMX - ECPv6.15.20//NONSGML v1.0//EN
CALSCALE:GREGORIAN
METHOD:PUBLISH
X-WR-CALNAME:THE SPOTLIGHTMX
X-ORIGINAL-URL:https://thespotlight.com.mx
X-WR-CALDESC:Eventos para THE SPOTLIGHTMX
REFRESH-INTERVAL;VALUE=DURATION:PT1H
X-Robots-Tag:noindex
X-PUBLISHED-TTL:PT1H
BEGIN:VTIMEZONE
TZID:America/Mexico_City
BEGIN:DAYLIGHT
TZOFFSETFROM:-0600
TZOFFSETTO:-0500
TZNAME:CDT
DTSTART:19960407T080000
END:DAYLIGHT
BEGIN:STANDARD
TZOFFSETFROM:-0500
TZOFFSETTO:-0600
TZNAME:CST
DTSTART:19961027T070000
END:STANDARD
BEGIN:DAYLIGHT
TZOFFSETFROM:-0600
TZOFFSETTO:-0500
TZNAME:CDT
DTSTART:19970406T080000
END:DAYLIGHT
BEGIN:STANDARD
TZOFFSETFROM:-0500
TZOFFSETTO:-0600
TZNAME:CST
DTSTART:19971026T070000
END:STANDARD
BEGIN:DAYLIGHT
TZOFFSETFROM:-0600
TZOFFSETTO:-0500
TZNAME:CDT
DTSTART:19980405T080000
END:DAYLIGHT
BEGIN:STANDARD
TZOFFSETFROM:-0500
TZOFFSETTO:-0600
TZNAME:CST
DTSTART:19981025T070000
END:STANDARD
BEGIN:DAYLIGHT
TZOFFSETFROM:-0600
TZOFFSETTO:-0500
TZNAME:CDT
DTSTART:19990404T080000
END:DAYLIGHT
BEGIN:STANDARD
TZOFFSETFROM:-0500
TZOFFSETTO:-0600
TZNAME:CST
DTSTART:19991031T070000
END:STANDARD
BEGIN:DAYLIGHT
TZOFFSETFROM:-0600
TZOFFSETTO:-0500
TZNAME:CDT
DTSTART:20000402T080000
END:DAYLIGHT
BEGIN:STANDARD
TZOFFSETFROM:-0500
TZOFFSETTO:-0600
TZNAME:CST
DTSTART:20001029T070000
END:STANDARD
BEGIN:DAYLIGHT
TZOFFSETFROM:-0600
TZOFFSETTO:-0500
TZNAME:CDT
DTSTART:20010506T080000
END:DAYLIGHT
BEGIN:STANDARD
TZOFFSETFROM:-0500
TZOFFSETTO:-0600
TZNAME:CST
DTSTART:20010930T070000
END:STANDARD
BEGIN:DAYLIGHT
TZOFFSETFROM:-0600
TZOFFSETTO:-0500
TZNAME:CDT
DTSTART:20020407T080000
END:DAYLIGHT
BEGIN:STANDARD
TZOFFSETFROM:-0500
TZOFFSETTO:-0600
TZNAME:CST
DTSTART:20021027T070000
END:STANDARD
BEGIN:DAYLIGHT
TZOFFSETFROM:-0600
TZOFFSETTO:-0500
TZNAME:CDT
DTSTART:20030406T080000
END:DAYLIGHT
BEGIN:STANDARD
TZOFFSETFROM:-0500
TZOFFSETTO:-0600
TZNAME:CST
DTSTART:20031026T070000
END:STANDARD
BEGIN:DAYLIGHT
TZOFFSETFROM:-0600
TZOFFSETTO:-0500
TZNAME:CDT
DTSTART:20040404T080000
END:DAYLIGHT
BEGIN:STANDARD
TZOFFSETFROM:-0500
TZOFFSETTO:-0600
TZNAME:CST
DTSTART:20041031T070000
END:STANDARD
BEGIN:DAYLIGHT
TZOFFSETFROM:-0600
TZOFFSETTO:-0500
TZNAME:CDT
DTSTART:20050403T080000
END:DAYLIGHT
BEGIN:STANDARD
TZOFFSETFROM:-0500
TZOFFSETTO:-0600
TZNAME:CST
DTSTART:20051030T070000
END:STANDARD
BEGIN:DAYLIGHT
TZOFFSETFROM:-0600
TZOFFSETTO:-0500
TZNAME:CDT
DTSTART:20060402T080000
END:DAYLIGHT
BEGIN:STANDARD
TZOFFSETFROM:-0500
TZOFFSETTO:-0600
TZNAME:CST
DTSTART:20061029T070000
END:STANDARD
BEGIN:DAYLIGHT
TZOFFSETFROM:-0600
TZOFFSETTO:-0500
TZNAME:CDT
DTSTART:20070401T080000
END:DAYLIGHT
BEGIN:STANDARD
TZOFFSETFROM:-0500
TZOFFSETTO:-0600
TZNAME:CST
DTSTART:20071028T070000
END:STANDARD
BEGIN:DAYLIGHT
TZOFFSETFROM:-0600
TZOFFSETTO:-0500
TZNAME:CDT
DTSTART:20080406T080000
END:DAYLIGHT
BEGIN:STANDARD
TZOFFSETFROM:-0500
TZOFFSETTO:-0600
TZNAME:CST
DTSTART:20081026T070000
END:STANDARD
BEGIN:DAYLIGHT
TZOFFSETFROM:-0600
TZOFFSETTO:-0500
TZNAME:CDT
DTSTART:20090405T080000
END:DAYLIGHT
BEGIN:STANDARD
TZOFFSETFROM:-0500
TZOFFSETTO:-0600
TZNAME:CST
DTSTART:20091025T070000
END:STANDARD
BEGIN:DAYLIGHT
TZOFFSETFROM:-0600
TZOFFSETTO:-0500
TZNAME:CDT
DTSTART:20100404T080000
END:DAYLIGHT
BEGIN:STANDARD
TZOFFSETFROM:-0500
TZOFFSETTO:-0600
TZNAME:CST
DTSTART:20101031T070000
END:STANDARD
BEGIN:DAYLIGHT
TZOFFSETFROM:-0600
TZOFFSETTO:-0500
TZNAME:CDT
DTSTART:20110403T080000
END:DAYLIGHT
BEGIN:STANDARD
TZOFFSETFROM:-0500
TZOFFSETTO:-0600
TZNAME:CST
DTSTART:20111030T070000
END:STANDARD
BEGIN:DAYLIGHT
TZOFFSETFROM:-0600
TZOFFSETTO:-0500
TZNAME:CDT
DTSTART:20120401T080000
END:DAYLIGHT
BEGIN:STANDARD
TZOFFSETFROM:-0500
TZOFFSETTO:-0600
TZNAME:CST
DTSTART:20121028T070000
END:STANDARD
BEGIN:DAYLIGHT
TZOFFSETFROM:-0600
TZOFFSETTO:-0500
TZNAME:CDT
DTSTART:20130407T080000
END:DAYLIGHT
BEGIN:STANDARD
TZOFFSETFROM:-0500
TZOFFSETTO:-0600
TZNAME:CST
DTSTART:20131027T070000
END:STANDARD
BEGIN:DAYLIGHT
TZOFFSETFROM:-0600
TZOFFSETTO:-0500
TZNAME:CDT
DTSTART:20140406T080000
END:DAYLIGHT
BEGIN:STANDARD
TZOFFSETFROM:-0500
TZOFFSETTO:-0600
TZNAME:CST
DTSTART:20141026T070000
END:STANDARD
BEGIN:DAYLIGHT
TZOFFSETFROM:-0600
TZOFFSETTO:-0500
TZNAME:CDT
DTSTART:20150405T080000
END:DAYLIGHT
BEGIN:STANDARD
TZOFFSETFROM:-0500
TZOFFSETTO:-0600
TZNAME:CST
DTSTART:20151025T070000
END:STANDARD
BEGIN:DAYLIGHT
TZOFFSETFROM:-0600
TZOFFSETTO:-0500
TZNAME:CDT
DTSTART:20160403T080000
END:DAYLIGHT
BEGIN:STANDARD
TZOFFSETFROM:-0500
TZOFFSETTO:-0600
TZNAME:CST
DTSTART:20161030T070000
END:STANDARD
BEGIN:DAYLIGHT
TZOFFSETFROM:-0600
TZOFFSETTO:-0500
TZNAME:CDT
DTSTART:20170402T080000
END:DAYLIGHT
BEGIN:STANDARD
TZOFFSETFROM:-0500
TZOFFSETTO:-0600
TZNAME:CST
DTSTART:20171029T070000
END:STANDARD
BEGIN:DAYLIGHT
TZOFFSETFROM:-0600
TZOFFSETTO:-0500
TZNAME:CDT
DTSTART:20180401T080000
END:DAYLIGHT
BEGIN:STANDARD
TZOFFSETFROM:-0500
TZOFFSETTO:-0600
TZNAME:CST
DTSTART:20181028T070000
END:STANDARD
BEGIN:DAYLIGHT
TZOFFSETFROM:-0600
TZOFFSETTO:-0500
TZNAME:CDT
DTSTART:20190407T080000
END:DAYLIGHT
BEGIN:STANDARD
TZOFFSETFROM:-0500
TZOFFSETTO:-0600
TZNAME:CST
DTSTART:20191027T070000
END:STANDARD
BEGIN:DAYLIGHT
TZOFFSETFROM:-0600
TZOFFSETTO:-0500
TZNAME:CDT
DTSTART:20200405T080000
END:DAYLIGHT
BEGIN:STANDARD
TZOFFSETFROM:-0500
TZOFFSETTO:-0600
TZNAME:CST
DTSTART:20201025T070000
END:STANDARD
BEGIN:DAYLIGHT
TZOFFSETFROM:-0600
TZOFFSETTO:-0500
TZNAME:CDT
DTSTART:20210404T080000
END:DAYLIGHT
BEGIN:STANDARD
TZOFFSETFROM:-0500
TZOFFSETTO:-0600
TZNAME:CST
DTSTART:20211031T070000
END:STANDARD
BEGIN:DAYLIGHT
TZOFFSETFROM:-0600
TZOFFSETTO:-0500
TZNAME:CDT
DTSTART:20220403T080000
END:DAYLIGHT
BEGIN:STANDARD
TZOFFSETFROM:-0500
TZOFFSETTO:-0600
TZNAME:CST
DTSTART:20221030T070000
END:STANDARD
END:VTIMEZONE
BEGIN:VEVENT
DTSTART;TZID=America/Mexico_City:20260424T015059
DTEND;TZID=America/Mexico_City:20260508T170000
DTSTAMP:20260424T015059
CREATED:20260406T191235Z
LAST-MODIFIED:20260406T191317Z
UID:7812-0-1778259600@thespotlight.com.mx
SUMMARY:Desde España\, Miriam Rodríguez\, "La Leona"\, trae a México su gira "Una extraña más en la ciudad"
DESCRIPTION:La reconocida cantante y compositora española Miriam Rodríguez\, quién saltó a la fama tras quedar como tercera finalista en Operación Triunfo 2017\, anuncia su esperado regreso a México con dos presentaciones imperdibles los próximos 8 de mayo en la Ciudad de México y 9 de mayo en Guadalajara\, como parte de su gira «Una extraña más en la ciudad». \nCon una trayectoria sólida y en constante crecimiento\, Miriam\, apodada «La Leona»\, se ha consolidado como una de las voces más destacadas del pop español contemporáneo. Su capacidad vocal\, su honestidad interpretativa y una presencia escénica que equilibra fuerza y sensibilidad\, la han llevado a conectar con audiencias cada vez más amplias dentro y fuera de España. \nSu visita a México no es casualidad: responde a una relación genuina que ha venido construyendo con el público mexicano en los últimos años. A través de su música\, Miriam ha logrado generar una conexión emocional profunda\, convirtiendo cada presentación en una experiencia cercana\, intensa y memorable. \n«Una extraña más en la ciudad» es un regalo para sus fans mexicanos\, quienes podrán entonar junto a ella sus mayores éxitos como: «Hay algo en mí»\, «Simplemente Dilo»\, «Me encantó estar equivocada»\, «Déjame cuidarte» y «Para volver»\, entre otras sorpresas. \nCon estos conciertos\, Miriam Rodríguez se posiciona dentro de una generación de talentos españoles que han logrado construir una relación real\, orgánica y creciente con el público mexicano\, demostrando que su propuesta trasciende fronteras y conecta desde la autenticidad. \nSu regreso a México representa una etapa clave: la de una artista consolidada\, con una proyección internacional en ascenso. \n \n 
URL:https://thespotlight.com.mx/event/desde-espana-miriam-rodriguez-la-leona-trae-a-mexico-su-gira-una-extrana-mas-en-la-ciudad/
LOCATION:Multiforo 246\, C. Querétaro 246\, Roma Nte.\, Cuauhtémoc\, 06700 Ciudad de México\, CDMX\, CDMX\, CDMX\, Mexico
ATTACH;FMTTYPE=image/jpeg:https://thespotlight.com.mx/wp-content/uploads/2026/04/Captura-de-Pantalla-2026-04-06-a-las-13.06.41.jpg
END:VEVENT
BEGIN:VEVENT
DTSTART;TZID=America/Mexico_City:20260424T200000
DTEND;TZID=America/Mexico_City:20260424T200000
DTSTAMP:20260424T015059
CREATED:20260422T191019Z
LAST-MODIFIED:20260422T191021Z
UID:7952-1777060800-1777060800@thespotlight.com.mx
SUMMARY:Ben Böhmer y el viaje sonoro que tienes que vivir
DESCRIPTION:La electrónica emocional tiene una nueva cita en la Ciudad de México. Ben Böhmer se presentará el próximo 24 de abril en el Pepsi Center WTC\, con un show que promete transformar la pista en un paisaje sonoro inmersivo. \nLejos del formato tradicional de DJ\, Böhmer ha construido una propuesta que se acerca más a la composición que a la mezcla: sets donde la melodía\, la narrativa y la emoción ocupan el centro. Su ascenso dentro de la escena electrónica se ha sostenido precisamente en esa capacidad de conectar desde lo íntimo\, incluso en escenarios masivos. \nDiscos como Breathing y Begin Again marcaron el inicio de ese camino\, explorando temas como el duelo\, la separación y los nuevos comienzos. Curiosamente\, gran parte de su reconocimiento global llegó gracias a sus presentaciones en vivo y a sesiones virales en YouTube\, donde su estilo melódico encontró una audiencia más allá del circuito club. \nOtro dato clave: Böhmer es parte del sello Anjunadeep\, una plataforma conocida por impulsar propuestas de electrónica profunda y emocional\, lo que ha sido fundamental en la construcción de su identidad sonora. \nSu más reciente álbum\, BLOOM\, representa un punto de reinicio. Inspirado en la improvisación y en sus raíces creativas\, el proyecto apuesta por una exploración más libre\, alejándose de la presión del éxito masivo para reconectar con su esencia artística. \nEn vivo\, esa búsqueda se traduce en sets que funcionan como viajes: progresiones lentas\, atmósferas envolventes y momentos de catarsis colectiva que convierten cada presentación en una experiencia más cercana a lo sensorial que a lo festivo. \nLa noche en el Pepsi Center no será solo un concierto\, sino una invitación a perderse —y encontrarse— dentro de uno de los universos más emotivos de la electrónica contemporánea.
URL:https://thespotlight.com.mx/event/ben-bohmer-y-el-viaje-sonoro-que-tienes-que-vivir/
LOCATION:Pepsi Center\, Dakota s/n\, Nápoles\, Benito Juárez\, 03810 Ciudad de México\, CDMX\, CDMX\, México
ATTACH;FMTTYPE=image/jpeg:https://thespotlight.com.mx/wp-content/uploads/2026/04/Captura-de-Pantalla-2026-04-22-a-las-13.08.06.jpg
END:VEVENT
END:VCALENDAR